BEGIN:VCALENDAR
VERSION:2.0
PRODID:-//Louisiana Society of Mayflower Descendants - ECPv6.15.3//NONSGML v1.0//EN
CALSCALE:GREGORIAN
METHOD:PUBLISH
X-WR-CALNAME:Louisiana Society of Mayflower Descendants
X-ORIGINAL-URL:https://louisianasocietyofmayflowerdescendants.org
X-WR-CALDESC:Events for Louisiana Society of Mayflower Descendants
REFRESH-INTERVAL;VALUE=DURATION:PT1H
X-Robots-Tag:noindex
X-PUBLISHED-TTL:PT1H
BEGIN:VTIMEZONE
TZID:UTC
BEGIN:STANDARD
TZOFFSETFROM:+0000
TZOFFSETTO:+0000
TZNAME:UTC
DTSTART:20190101T000000
END:STANDARD
END:VTIMEZONE
BEGIN:VEVENT
DTSTART;TZID=UTC:20221113T110000
DTEND;TZID=UTC:20221113T140000
DTSTAMP:20260423T180433
CREATED:20220913T143217Z
LAST-MODIFIED:20220913T143217Z
UID:635-1668337200-1668348000@louisianasocietyofmayflowerdescendants.org
SUMMARY:2022 Compact Luncheon
DESCRIPTION:
URL:https://louisianasocietyofmayflowerdescendants.org/event/2022-compact-luncheon/
LOCATION:New Orleans Country Club\, 5024 Pontchartrain Blvd\, New Orleans\, LA\, 70118\, United States
CATEGORIES:LSMD
ATTACH;FMTTYPE=image/jpeg:https://louisianasocietyofmayflowerdescendants.org/wp-content/uploads/2019/04/IMG_20181104_113745.jpg
END:VEVENT
BEGIN:VEVENT
DTSTART;TZID=UTC:20220515T110000
DTEND;TZID=UTC:20220515T130000
DTSTAMP:20260423T180433
CREATED:20220406T150941Z
LAST-MODIFIED:20220406T153851Z
UID:618-1652612400-1652619600@louisianasocietyofmayflowerdescendants.org
SUMMARY:2022 Spring Luncheon
DESCRIPTION:
URL:https://louisianasocietyofmayflowerdescendants.org/event/2022-spring-luncheon/
LOCATION:New Orleans Country Club\, 5024 Pontchartrain Blvd\, New Orleans\, LA\, 70118\, United States
CATEGORIES:LSMD
ATTACH;FMTTYPE=image/jpeg:https://louisianasocietyofmayflowerdescendants.org/wp-content/uploads/2019/04/IMG_20181104_113745.jpg
END:VEVENT
BEGIN:VEVENT
DTSTART;TZID=UTC:20211113T110000
DTEND;TZID=UTC:20211113T140000
DTSTAMP:20260423T180433
CREATED:20211027T205950Z
LAST-MODIFIED:20211027T210013Z
UID:604-1636801200-1636812000@louisianasocietyofmayflowerdescendants.org
SUMMARY:2021 Mayflower Compact Day Luncheon
DESCRIPTION:We are looking forward to being able to get together in person again to celebrate not only the 400th Anniversary of the “First Thanksgiving” but also our Society’s 75th Anniversary. \nWe will celebrate at Antoine’s Restaurant where our Society was incorporated.  Mr. William Allerton will be our guest speaker. \nPlease let us know by Friday\, November 5th if you will be joining us by filling out this form.
URL:https://louisianasocietyofmayflowerdescendants.org/event/2021-mayflower-compact-day-luncheon/
LOCATION:Antoine’s\, 713 St Louis St\, New Orleans\, LA\, 70130\, United States
CATEGORIES:LSMD
ATTACH;FMTTYPE=image/jpeg:https://louisianasocietyofmayflowerdescendants.org/wp-content/uploads/2021/10/The_Mayflower_Compact_1620_1934x1362-1934x967-1.jpg
END:VEVENT
BEGIN:VEVENT
DTSTART;TZID=UTC:20201115T113000
DTEND;TZID=UTC:20201115T133000
DTSTAMP:20260423T180433
CREATED:20191117T164454Z
LAST-MODIFIED:20191117T164454Z
UID:562-1605439800-1605447000@louisianasocietyofmayflowerdescendants.org
SUMMARY:Mayflower Compact Day Luncheon
DESCRIPTION:
URL:https://louisianasocietyofmayflowerdescendants.org/event/mayflower-compact-day-luncheon-2/
LOCATION:New Orleans Country Club\, 5024 Pontchartrain Blvd\, New Orleans\, LA\, 70118\, United States
CATEGORIES:LSMD
END:VEVENT
BEGIN:VEVENT
DTSTART;TZID=UTC:20200711T080000
DTEND;TZID=UTC:20200711T170000
DTSTAMP:20260423T180433
CREATED:20191117T164637Z
LAST-MODIFIED:20191117T170207Z
UID:565-1594454400-1594486800@louisianasocietyofmayflowerdescendants.org
SUMMARY:75th Anniversary Celebration
DESCRIPTION:
URL:https://louisianasocietyofmayflowerdescendants.org/event/75th-anniversary-celebration/
LOCATION:Antoine’s\, 713 St Louis St\, New Orleans\, LA\, 70130\, United States
CATEGORIES:LSMD
END:VEVENT
BEGIN:VEVENT
DTSTART;TZID=UTC:20190505T110000
DTEND;TZID=UTC:20190505T130000
DTSTAMP:20260423T180433
CREATED:20190407T180645Z
LAST-MODIFIED:20190407T182619Z
UID:446-1557054000-1557061200@louisianasocietyofmayflowerdescendants.org
SUMMARY:Spring Luncheon
DESCRIPTION:
URL:https://louisianasocietyofmayflowerdescendants.org/event/spring-luncheon/
LOCATION:New Orleans Country Club\, 5024 Pontchartrain Blvd\, New Orleans\, LA\, 70118\, United States
CATEGORIES:LSMD
ATTACH;FMTTYPE=image/jpeg:https://louisianasocietyofmayflowerdescendants.org/wp-content/uploads/2019/04/IMG_20181104_131734.jpg
END:VEVENT
END:VCALENDAR